BEGIN:VCALENDAR
VERSION:2.0
PRODID:-//wp-events-plugin.com//7.2.3.1//EN
TZID:Europe/Berlin
X-WR-TIMEZONE:Europe/Berlin
BEGIN:VEVENT
UID:476@kunstwerk-schuettorf.de
DTSTART;TZID=Europe/Berlin:20230112T190000
DTEND;TZID=Europe/Berlin:20230629T203000
DTSTAMP:20230117T090733Z
URL:https://kunstwerk-schuettorf.de/event-recurring/chor-voices-and-more-2
 /
SUMMARY:Chor - "Voices and more..."
DESCRIPTION:"Wir sind ein offener Chor bei dem jeder\, der Freude am Singen
  hat mitmachen kann! (Notenkenntnisse wären vorteilhaft aber nicht zwinge
 nd erforderlich)\nDie Lieder reichen von alten Madrigalen bis hin zu aktue
 ller Popmusik - musikalische Grenzen kennen wir nicht. Unser Name "Voices 
 and more ...." verweist auch darauf\, dass wir zu den Stimmen noch weitere
  Instrumente einsetzen...\nDie regelmäßigen Proben finden jeweils am Don
 nerstag von 19:00 Uhr - 20:30 Uhr im Hauptsaal des Schüttorfer KunstWerks
  statt."\nWenn Sie Lust und Laune am Singen haben\, kommen Sie gerne zu de
 n Proben vorbei. Diese sind kostenlos.\nIn den Ferien finden in der Regel 
 keine Gesangsproben statt. Ausnahmen nach Absprache.
ATTACH;FMTTYPE=image/jpeg:https://i0.wp.com/kunstwerk-schuettorf.de/wp-con
 tent/uploads/2022/08/KW-Logo-Original.jpg?fit=1865%2C1865&ssl=1
CATEGORIES:Begegnung
LOCATION:KunstWerk SF\, Ohner Straße 12\, Schüttorf\, Niedersachsen\, 484
 65\, Grafschaft Bentheim\, Deutschland
X-APPLE-STRUCTURED-LOCATION;VALUE=URI;X-ADDRESS=Ohner Straße 12\, Schütto
 rf\, Niedersachsen\, 48465\, Grafschaft Bentheim\, Deutschland;X-APPLE-RAD
 IUS=100;X-TITLE=KunstWerk SF:geo:0,0
END:VEVENT
BEGIN:VTIMEZONE
TZID:Europe/Berlin
X-LIC-LOCATION:Europe/Berlin
BEGIN:STANDARD
DTSTART:20221030T020000
TZOFFSETFROM:+0200
TZOFFSETTO:+0100
TZNAME:CET
END:STANDARD
BEGIN:DAYLIGHT
DTSTART:20230326T030000
TZOFFSETFROM:+0100
TZOFFSETTO:+0200
TZNAME:CEST
END:DAYLIGHT
END:VTIMEZONE
END:VCALENDAR