BEGIN:VCALENDAR
VERSION:2.0
PRODID:-//wp-events-plugin.com//7.2.3.1//EN
TZID:Europe/Berlin
X-WR-TIMEZONE:Europe/Berlin
BEGIN:VEVENT
UID:1664@kunstwerk-schuettorf.de
DTSTART;TZID=Europe/Berlin:20260322T153000
DTEND;TZID=Europe/Berlin:20260322T180000
DTSTAMP:20260204T105155Z
URL:https://kunstwerk-schuettorf.de/Events_Seminar/ein-stueck-kuchen-ein-s
 tueck-kultur-das-neue-sunday-cafe-im-kunstwerk-schuettorf/
SUMMARY:Ein Stück Kuchen\, ein Stück Kultur - das neue Sunday-Café im Ku
 nstWerk Schüttorf
DESCRIPTION:Verbringen Sie einen gemütlichen Sonntagnachmittag in entspann
 ter Atmosphäre – bei frisch gebrühtem Kaffee oder Tee\, selbstgebacken
 em Kuchen\, netten Begegnungen und musikalisch-poetischer Unterhaltung mit
  Live-Musik und Lyrik.\n\nBringen Sie\, wenn möglich\, einen selbstgeback
 enen Kuchen mit und tauschen Sie ihn oder Ihr Rezept mit anderen Gästen. 
 So entsteht eine bunte Vielfalt an Köstlichkeiten\, die zum Probieren\, S
 taunen und Austauschen einlädt. Natürlich sind auch alle willkommen\, di
 e einfach nur genießen möchten – Backen ist kein Muss.\n\nBegleitet wi
 rd der Nachmittag von entspannter Live-Musik und poetischer Lyrik\, die de
 m Sonntagskaffee eine besondere Atmosphäre verleihen.\n\nKaffee und Tee w
 erden vom Kunstwerk bereitgestellt.\n\nFreuen Sie sich auf einen genussvol
 len Nachmittag voller Begegnung\, Musik und Poesie.\n\nDas Team des Kunstw
 erks Schüttorf heißt Sie herzlich willkommen!\n\n\n\nEine Anmeldung ist 
 erforderlich.\n\nZur besseren Planbarkeit\, geben Sie bitte bei Ihrer Anme
 ldung an ob und welchen Kuchen Sie mitbringen.
ATTACH;FMTTYPE=image/jpeg:https://i0.wp.com/kunstwerk-schuettorf.de/wp-con
 tent/uploads/2026/02/Sunday-Cafe-klein-KI-generiert.jpg?fit=820%2C820&ssl=
 1
CATEGORIES:Begegnung
LOCATION:KunstWerk SF\, Ohner Straße 12\, Schüttorf\, Niedersachsen\, 484
 65\, Grafschaft Bentheim\, Deutschland
X-APPLE-STRUCTURED-LOCATION;VALUE=URI;X-ADDRESS=Ohner Straße 12\, Schütto
 rf\, Niedersachsen\, 48465\, Grafschaft Bentheim\, Deutschland;X-APPLE-RAD
 IUS=100;X-TITLE=KunstWerk SF:geo:0,0
END:VEVENT
BEGIN:VTIMEZONE
TZID:Europe/Berlin
X-LIC-LOCATION:Europe/Berlin
BEGIN:STANDARD
DTSTART:20251026T020000
TZOFFSETFROM:+0200
TZOFFSETTO:+0100
TZNAME:CET
END:STANDARD
END:VTIMEZONE
END:VCALENDAR